BEGIN:VCALENDAR
VERSION:2.0
PRODID:Events Booking
BEGIN:VEVENT
UID:69e89b7c147bc
SUMMARY:Introduction into bovine ultrasonography
DESCRIPTION:3-day all-inclusive wet lab on introduction to bovine ultrasono
 graphy. Originally this course was planned for Iranian vets. However\, due
  to the current situation\, everyone is invited to register. Speakers are 
 Prof. Gabrieala Knubben Schweizer\, LMU\, Tekkin Muhitin\, Univ Vienna\, K
 aren Wagner\, Univ Vienna\, and Andrea Fiedler.
  
DTSTART:20991231T073000Z
DTEND:20991231T160000Z
DTSTAMP:20251211T100615Z
ORGANIZER;CN=veticon excellence in veterinary training:MAILTO:fortbildungen
 @veticon.eu
END:VEVENT
END:VCALENDAR